BEGIN:VCALENDAR
VERSION:2.0
PRODID:-//ChamberMaster//Event Calendar 2.0//EN
METHOD:PUBLISH
X-PUBLISHED-TTL:P3D
REFRESH-INTERVAL:P3D
CALSCALE:GREGORIAN
BEGIN:VEVENT
DTSTART:20140608T113000Z
DTEND:20140608T210000Z
X-MICROSOFT-CDO-ALLDAYEVENT:FALSE
SUMMARY:Walk to Remember
DESCRIPTION:The walk is open to anyone wishing to honor and celebrate the memory of a loved one and to make a difference in the lives of those who are living with serious illness. Registration includes all-day admission to the Zoo and Rainforest\, t-shirts\, entertainment and much more.
X-ALT-DESC;FMTTYPE=text/html:The walk is open to anyone wishing to honor and celebrate the memory of a loved one and to make a difference in the lives of those who are living with serious illness. Registration includes all-day admission to the Zoo and Rainforest\, t-shirts\,&nbsp\;entertainment and much more.
LOCATION:The Cleveland Metroparks Zoo and Rainforest (3900 Wildlife Way)
UID:e.537.170
SEQUENCE:3
DTSTAMP:20260421T115859Z
URL:http://willoughby-oh.chambermaster.com/events/details/walk-to-remember-06-08-2014-170
END:VEVENT

END:VCALENDAR
